Package: pairedGSEA Version: 1.0.0 Command: /home/biocbuild/bbs-3.17-bioc/R/bin/R CMD build --keep-empty-dirs --no-resave-data pairedGSEA StartedAt: 2023-10-15 17:50:33 -0400 (Sun, 15 Oct 2023) EndedAt: 2023-10-15 17:54:50 -0400 (Sun, 15 Oct 2023) EllapsedTime: 257.8 seconds RetCode: 0 Status: OK PackageFile: pairedGSEA_1.0.0.tar.gz PackageFileSize: 578.5 KiB