Package: pairedGSEA Version: 1.0.0 Command: rm -rf pairedGSEA.buildbin-libdir && mkdir pairedGSEA.buildbin-libdir && /Users/biocbuild/BBS/utils/build-universal.sh pairedGSEA_1.0.0.tar.gz /Library/Frameworks/R.framework/Resources/bin/R pairedGSEA.buildbin-libdir StartedAt: 2023-10-16 09:53:28 -0400 (Mon, 16 Oct 2023) EndedAt: 2023-10-16 09:55:23 -0400 (Mon, 16 Oct 2023) EllapsedTime: 114.9 seconds RetCode: 0 Status: OK PackageFile: pairedGSEA_1.0.0.tgz PackageFileSize: 626.5 KiB