Package: paircompviz Version: 1.38.0 Command: F:\biocbuild\bbs-3.17-bioc\R\bin\R.exe CMD INSTALL paircompviz StartedAt: 2023-10-15 16:06:35 -0400 (Sun, 15 Oct 2023) EndedAt: 2023-10-15 16:06:43 -0400 (Sun, 15 Oct 2023) EllapsedTime: 8.0 seconds RetCode: 0 Status: OK