Package: paircompviz Version: 1.38.0 Command: /Library/Frameworks/R.framework/Resources/bin/R CMD INSTALL paircompviz StartedAt: 2023-10-15 15:11:08 -0400 (Sun, 15 Oct 2023) EndedAt: 2023-10-15 15:11:23 -0400 (Sun, 15 Oct 2023) EllapsedTime: 15.1 seconds RetCode: 0 Status: OK