Package: paircompviz Version: 1.38.0 Command: /Library/Frameworks/R.framework/Resources/bin/R CMD check --install=check:paircompviz.install-out.txt --library=/Library/Frameworks/R.framework/Resources/library --no-vignettes --timings paircompviz_1.38.0.tar.gz StartedAt: 2023-10-16 04:59:46 -0400 (Mon, 16 Oct 2023) EndedAt: 2023-10-16 05:01:01 -0400 (Mon, 16 Oct 2023) EllapsedTime: 75.1 seconds RetCode: 0 Status: OK CheckDir: paircompviz.Rcheck Warnings: 0