Package: padma Version: 1.10.0 Command: chmod a+r padma -R && F:\biocbuild\bbs-3.17-bioc\R\bin\R.exe CMD build --keep-empty-dirs --no-resave-data padma StartedAt: 2023-10-15 21:10:08 -0400 (Sun, 15 Oct 2023) EndedAt: 2023-10-15 21:11:18 -0400 (Sun, 15 Oct 2023) EllapsedTime: 69.5 seconds RetCode: 0 Status: OK PackageFile: padma_1.10.0.tar.gz PackageFileSize: 947.9 KiB