Package: padma Version: 1.10.0 Command: rm -rf padma.buildbin-libdir && mkdir padma.buildbin-libdir && F:\biocbuild\bbs-3.17-bioc\R\bin\R.exe CMD INSTALL --build --library=padma.buildbin-libdir padma_1.10.0.tar.gz StartedAt: 2023-10-16 09:13:48 -0400 (Mon, 16 Oct 2023) EndedAt: 2023-10-16 09:14:26 -0400 (Mon, 16 Oct 2023) EllapsedTime: 37.7 seconds RetCode: 0 Status: OK PackageFile: padma_1.10.0.zip PackageFileSize: 1.105 MiB