Package: packFinder Version: 1.12.0 Command: chmod a+r packFinder -R && F:\biocbuild\bbs-3.17-bioc\R\bin\R.exe CMD build --keep-empty-dirs --no-resave-data packFinder StartedAt: 2023-10-15 21:09:43 -0400 (Sun, 15 Oct 2023) EndedAt: 2023-10-15 21:10:07 -0400 (Sun, 15 Oct 2023) EllapsedTime: 24.0 seconds RetCode: 0 Status: OK PackageFile: packFinder_1.12.0.tar.gz PackageFileSize: 1.129 MiB