Package: packFinder Version: 1.12.0 Command: rm -rf packFinder.buildbin-libdir && mkdir packFinder.buildbin-libdir && F:\biocbuild\bbs-3.17-bioc\R\bin\R.exe CMD INSTALL --build --library=packFinder.buildbin-libdir packFinder_1.12.0.tar.gz StartedAt: 2023-10-16 09:13:45 -0400 (Mon, 16 Oct 2023) EndedAt: 2023-10-16 09:13:50 -0400 (Mon, 16 Oct 2023) EllapsedTime: 5.8 seconds RetCode: 0 Status: OK PackageFile: packFinder_1.12.0.zip PackageFileSize: 1.162 MiB