Package: packFinder Version: 1.12.0 Command: /home/biocbuild/bbs-3.17-bioc/R/bin/R CMD check --install=check:packFinder.install-out.txt --library=/home/biocbuild/bbs-3.17-bioc/R/site-library --timings packFinder_1.12.0.tar.gz StartedAt: 2023-10-15 23:33:32 -0400 (Sun, 15 Oct 2023) EndedAt: 2023-10-15 23:34:41 -0400 (Sun, 15 Oct 2023) EllapsedTime: 68.8 seconds RetCode: 0 Status: OK CheckDir: packFinder.Rcheck Warnings: 0