Package: packFinder Version: 1.12.0 Command: /home/biocbuild/bbs-3.17-bioc/R/bin/R CMD build --keep-empty-dirs --no-resave-data packFinder StartedAt: 2023-10-15 17:49:20 -0400 (Sun, 15 Oct 2023) EndedAt: 2023-10-15 17:49:38 -0400 (Sun, 15 Oct 2023) EllapsedTime: 17.3 seconds RetCode: 0 Status: OK PackageFile: packFinder_1.12.0.tar.gz PackageFileSize: 1.131 MiB