Package: packFinder Version: 1.12.0 Command: /Library/Frameworks/R.framework/Resources/bin/R CMD INSTALL packFinder StartedAt: 2023-10-15 15:51:51 -0400 (Sun, 15 Oct 2023) EndedAt: 2023-10-15 15:51:58 -0400 (Sun, 15 Oct 2023) EllapsedTime: 6.6 seconds RetCode: 0 Status: OK