Package: pRolocGUI Version: 2.10.0 Command: rm -rf pRolocGUI.buildbin-libdir && mkdir pRolocGUI.buildbin-libdir && F:\biocbuild\bbs-3.17-bioc\R\bin\R.exe CMD INSTALL --build --library=pRolocGUI.buildbin-libdir pRolocGUI_2.10.0.tar.gz StartedAt: 2023-10-16 09:17:48 -0400 (Mon, 16 Oct 2023) EndedAt: 2023-10-16 09:18:54 -0400 (Mon, 16 Oct 2023) EllapsedTime: 65.7 seconds RetCode: 0 Status: OK PackageFile: pRolocGUI_2.10.0.zip PackageFileSize: 1.775 MiB