Package: pRolocGUI Version: 2.10.0 Command: /home/biocbuild/bbs-3.17-bioc/R/bin/R CMD INSTALL pRolocGUI StartedAt: 2023-10-15 15:41:50 -0400 (Sun, 15 Oct 2023) EndedAt: 2023-10-15 15:42:35 -0400 (Sun, 15 Oct 2023) EllapsedTime: 45.3 seconds RetCode: 0 Status: OK