Package: pRolocGUI Version: 2.10.0 Command: /home/biocbuild/bbs-3.17-bioc/R/bin/R CMD check --install=check:pRolocGUI.install-out.txt --library=/home/biocbuild/bbs-3.17-bioc/R/site-library --timings pRolocGUI_2.10.0.tar.gz StartedAt: 2023-10-16 00:02:11 -0400 (Mon, 16 Oct 2023) EndedAt: 2023-10-16 00:07:24 -0400 (Mon, 16 Oct 2023) EllapsedTime: 313.5 seconds RetCode: 0 Status: OK CheckDir: pRolocGUI.Rcheck Warnings: 0