Package: pRolocGUI Version: 2.10.0 Command: /home/biocbuild/bbs-3.17-bioc/R/bin/R CMD build --keep-empty-dirs --no-resave-data pRolocGUI StartedAt: 2023-10-15 18:01:46 -0400 (Sun, 15 Oct 2023) EndedAt: 2023-10-15 18:02:48 -0400 (Sun, 15 Oct 2023) EllapsedTime: 61.9 seconds RetCode: 0 Status: OK PackageFile: pRolocGUI_2.10.0.tar.gz PackageFileSize: 2.991 MiB