Package: pRolocGUI Version: 2.10.0 Command: /Library/Frameworks/R.framework/Resources/bin/R CMD check --install=check:pRolocGUI.install-out.txt --library=/Library/Frameworks/R.framework/Resources/library --no-vignettes --timings pRolocGUI_2.10.0.tar.gz StartedAt: 2023-10-16 05:32:35 -0400 (Mon, 16 Oct 2023) EndedAt: 2023-10-16 05:44:55 -0400 (Mon, 16 Oct 2023) EllapsedTime: 740.1 seconds RetCode: 0 Status: OK CheckDir: pRolocGUI.Rcheck Warnings: 0