Package: pRolocGUI Version: 2.10.0 Command: /Library/Frameworks/R.framework/Resources/bin/R CMD build --keep-empty-dirs --no-resave-data pRolocGUI StartedAt: 2023-10-15 20:25:10 -0400 (Sun, 15 Oct 2023) EndedAt: 2023-10-15 20:27:29 -0400 (Sun, 15 Oct 2023) EllapsedTime: 139.4 seconds RetCode: 0 Status: OK PackageFile: pRolocGUI_2.10.0.tar.gz PackageFileSize: 2.991 MiB