Package: pRoloc Version: 1.40.1 Command: /home/biocbuild/bbs-3.17-bioc/R/bin/R CMD INSTALL pRoloc StartedAt: 2023-10-15 15:40:33 -0400 (Sun, 15 Oct 2023) EndedAt: 2023-10-15 15:41:48 -0400 (Sun, 15 Oct 2023) EllapsedTime: 75.4 seconds RetCode: 0 Status: OK