Package: pRoloc Version: 1.40.1 Command: /home/biocbuild/bbs-3.17-bioc/R/bin/R CMD check --install=check:pRoloc.install-out.txt --library=/home/biocbuild/bbs-3.17-bioc/R/site-library --timings pRoloc_1.40.1.tar.gz StartedAt: 2023-10-16 00:02:10 -0400 (Mon, 16 Oct 2023) EndedAt: 2023-10-16 00:16:12 -0400 (Mon, 16 Oct 2023) EllapsedTime: 841.2 seconds RetCode: 0 Status: OK CheckDir: pRoloc.Rcheck Warnings: 0