Package: pRoloc Version: 1.40.1 Command: /Library/Frameworks/R.framework/Resources/bin/R CMD check --install=check:pRoloc.install-out.txt --library=/Library/Frameworks/R.framework/Resources/library --no-vignettes --timings pRoloc_1.40.1.tar.gz StartedAt: 2023-10-16 05:32:20 -0400 (Mon, 16 Oct 2023) EndedAt: 2023-10-16 05:55:48 -0400 (Mon, 16 Oct 2023) EllapsedTime: 1407.6 seconds RetCode: 0 Status: OK CheckDir: pRoloc.Rcheck Warnings: 0