Package: pRoloc Version: 1.40.1 Command: /Library/Frameworks/R.framework/Resources/bin/R CMD build --keep-empty-dirs --no-resave-data pRoloc StartedAt: 2023-10-15 20:25:09 -0400 (Sun, 15 Oct 2023) EndedAt: 2023-10-15 20:36:12 -0400 (Sun, 15 Oct 2023) EllapsedTime: 663.2 seconds RetCode: 0 Status: OK PackageFile: pRoloc_1.40.1.tar.gz PackageFileSize: 9.761 MiB