Package: pRoloc Version: 1.40.1 Command: rm -rf pRoloc.buildbin-libdir && mkdir pRoloc.buildbin-libdir && /Users/biocbuild/BBS/utils/build-universal.sh pRoloc_1.40.1.tar.gz /Library/Frameworks/R.framework/Resources/bin/R pRoloc.buildbin-libdir StartedAt: 2023-10-16 09:57:23 -0400 (Mon, 16 Oct 2023) EndedAt: 2023-10-16 10:02:09 -0400 (Mon, 16 Oct 2023) EllapsedTime: 286.1 seconds RetCode: 0 Status: OK PackageFile: pRoloc_1.40.1.tgz PackageFileSize: 9.478 MiB