Package: orthogene Version: 1.6.1 Command: /home/biocbuild/bbs-3.17-bioc/R/bin/R CMD build --keep-empty-dirs --no-resave-data orthogene StartedAt: 2023-10-15 17:47:47 -0400 (Sun, 15 Oct 2023) EndedAt: 2023-10-15 17:48:29 -0400 (Sun, 15 Oct 2023) EllapsedTime: 42.4 seconds RetCode: 0 Status: OK PackageFile: orthogene_1.6.1.tar.gz PackageFileSize: 2.678 MiB