Package: optimalFlow Version: 1.12.0 Command: F:\biocbuild\bbs-3.17-bioc\R\bin\R.exe CMD check --no-multiarch --install=check:optimalFlow.install-out.txt --library=F:\biocbuild\bbs-3.17-bioc\R\library --no-vignettes --timings optimalFlow_1.12.0.tar.gz StartedAt: 2023-10-16 04:59:44 -0400 (Mon, 16 Oct 2023) EndedAt: 2023-10-16 05:05:48 -0400 (Mon, 16 Oct 2023) EllapsedTime: 364.2 seconds RetCode: 0 Status: OK CheckDir: optimalFlow.Rcheck Warnings: 0