Package: optimalFlow Version: 1.12.0 Command: rm -rf optimalFlow.buildbin-libdir && mkdir optimalFlow.buildbin-libdir && /Users/biocbuild/BBS/utils/build-universal.sh optimalFlow_1.12.0.tar.gz /Library/Frameworks/R.framework/Resources/bin/R optimalFlow.buildbin-libdir StartedAt: 2023-10-16 09:52:36 -0400 (Mon, 16 Oct 2023) EndedAt: 2023-10-16 09:53:39 -0400 (Mon, 16 Oct 2023) EllapsedTime: 63.0 seconds RetCode: 0 Status: OK PackageFile: optimalFlow_1.12.0.tgz PackageFileSize: 1.069 MiB