Package: oppti Version: 1.14.0 Command: rm -rf oppti.buildbin-libdir && mkdir oppti.buildbin-libdir && F:\biocbuild\bbs-3.17-bioc\R\bin\R.exe CMD INSTALL --build --library=oppti.buildbin-libdir oppti_1.14.0.tar.gz StartedAt: 2023-10-16 09:13:09 -0400 (Mon, 16 Oct 2023) EndedAt: 2023-10-16 09:13:21 -0400 (Mon, 16 Oct 2023) EllapsedTime: 11.3 seconds RetCode: 0 Status: OK PackageFile: oppti_1.14.0.zip PackageFileSize: 104.6 KiB