git_url: https://git.bioconductor.org/packages/oppti git_branch: RELEASE_3_17 git_last_commit: 2667740 git_last_commit_date: 2023-04-25 11:13:49 -0400 (Tue, 25 Apr 2023) Package: oppti Version: 1.14.0 Maintainer: Abdulkadir Elmas MaintainerEmail: abdulkadir.elmas at mssm.edu