Package: oppar Version: 1.28.0 Command: F:\biocbuild\bbs-3.17-bioc\R\bin\R.exe CMD check --no-multiarch --install=check:oppar.install-out.txt --library=F:\biocbuild\bbs-3.17-bioc\R\library --no-vignettes --timings oppar_1.28.0.tar.gz StartedAt: 2023-10-16 04:58:53 -0400 (Mon, 16 Oct 2023) EndedAt: 2023-10-16 05:03:20 -0400 (Mon, 16 Oct 2023) EllapsedTime: 266.5 seconds RetCode: 0 Status: WARNINGS CheckDir: oppar.Rcheck Warnings: 1