Package: oppar Version: 1.28.0 Command: /home/biocbuild/bbs-3.17-bioc/R/bin/R CMD check --install=check:oppar.install-out.txt --library=/home/biocbuild/bbs-3.17-bioc/R/site-library --timings oppar_1.28.0.tar.gz StartedAt: 2023-10-15 23:28:37 -0400 (Sun, 15 Oct 2023) EndedAt: 2023-10-15 23:36:49 -0400 (Sun, 15 Oct 2023) EllapsedTime: 492.0 seconds RetCode: 0 Status: WARNINGS CheckDir: oppar.Rcheck Warnings: 1