Package: oposSOM Version: 2.18.0 Command: /Library/Frameworks/R.framework/Resources/bin/R CMD check --install=check:oposSOM.install-out.txt --library=/Library/Frameworks/R.framework/Resources/library --no-vignettes --timings oposSOM_2.18.0.tar.gz StartedAt: 2023-10-16 04:53:11 -0400 (Mon, 16 Oct 2023) EndedAt: 2023-10-16 05:12:52 -0400 (Mon, 16 Oct 2023) EllapsedTime: 1181.0 seconds RetCode: 0 Status: WARNINGS CheckDir: oposSOM.Rcheck Warnings: 2