Package: oposSOM Version: 2.18.0 Command: rm -rf oposSOM.buildbin-libdir && mkdir oposSOM.buildbin-libdir && /Users/biocbuild/BBS/utils/build-universal.sh oposSOM_2.18.0.tar.gz /Library/Frameworks/R.framework/Resources/bin/R oposSOM.buildbin-libdir StartedAt: 2023-10-16 09:52:28 -0400 (Mon, 16 Oct 2023) EndedAt: 2023-10-16 09:55:18 -0400 (Mon, 16 Oct 2023) EllapsedTime: 170.4 seconds RetCode: 0 Status: OK PackageFile: oposSOM_2.18.0.tgz PackageFileSize: 13.38 MiB