Package: openPrimeRui Version: 1.22.0 Command: F:\biocbuild\bbs-3.17-bioc\R\bin\R.exe CMD INSTALL openPrimeRui StartedAt: 2023-10-15 16:56:35 -0400 (Sun, 15 Oct 2023) EndedAt: 2023-10-15 16:56:56 -0400 (Sun, 15 Oct 2023) EllapsedTime: 20.6 seconds RetCode: 0 Status: OK