Package: openPrimeRui Version: 1.22.0 Command: chmod a+r openPrimeRui -R && F:\biocbuild\bbs-3.17-bioc\R\bin\R.exe CMD build --keep-empty-dirs --no-resave-data openPrimeRui StartedAt: 2023-10-15 21:02:08 -0400 (Sun, 15 Oct 2023) EndedAt: 2023-10-15 21:02:34 -0400 (Sun, 15 Oct 2023) EllapsedTime: 26.0 seconds RetCode: 0 Status: OK PackageFile: openPrimeRui_1.22.0.tar.gz PackageFileSize: 3.658 MiB