Package: openPrimeRui Version: 1.22.0 Command: /home/biocbuild/bbs-3.17-bioc/R/bin/R CMD INSTALL openPrimeRui StartedAt: 2023-10-15 15:44:54 -0400 (Sun, 15 Oct 2023) EndedAt: 2023-10-15 15:45:08 -0400 (Sun, 15 Oct 2023) EllapsedTime: 14.0 seconds RetCode: 0 Status: OK