Package: openPrimeRui Version: 1.22.0 Command: /Library/Frameworks/R.framework/Resources/bin/R CMD check --install=check:openPrimeRui.install-out.txt --library=/Library/Frameworks/R.framework/Resources/library --no-vignettes --timings openPrimeRui_1.22.0.tar.gz StartedAt: 2023-10-16 04:52:38 -0400 (Mon, 16 Oct 2023) EndedAt: 2023-10-16 04:55:10 -0400 (Mon, 16 Oct 2023) EllapsedTime: 152.7 seconds RetCode: 0 Status: OK CheckDir: openPrimeRui.Rcheck Warnings: 0