Package: openPrimeRui Version: 1.22.0 Command: /Library/Frameworks/R.framework/Resources/bin/R CMD build --keep-empty-dirs --no-resave-data openPrimeRui StartedAt: 2023-10-15 20:01:43 -0400 (Sun, 15 Oct 2023) EndedAt: 2023-10-15 20:02:34 -0400 (Sun, 15 Oct 2023) EllapsedTime: 51.2 seconds RetCode: 0 Status: OK PackageFile: openPrimeRui_1.22.0.tar.gz PackageFileSize: 3.659 MiB