Package: openPrimeRui Version: 1.22.0 Command: rm -rf openPrimeRui.buildbin-libdir && mkdir openPrimeRui.buildbin-libdir && /Users/biocbuild/BBS/utils/build-universal.sh openPrimeRui_1.22.0.tar.gz /Library/Frameworks/R.framework/Resources/bin/R openPrimeRui.buildbin-libdir StartedAt: 2023-10-16 09:52:20 -0400 (Mon, 16 Oct 2023) EndedAt: 2023-10-16 09:53:16 -0400 (Mon, 16 Oct 2023) EllapsedTime: 55.9 seconds RetCode: 0 Status: OK PackageFile: openPrimeRui_1.22.0.tgz PackageFileSize: 2.388 MiB