Package: openPrimeR Version: 1.22.0 Command: F:\biocbuild\bbs-3.17-bioc\R\bin\R.exe CMD check --no-multiarch --install=check:openPrimeR.install-out.txt --library=F:\biocbuild\bbs-3.17-bioc\R\library --no-vignettes --timings openPrimeR_1.22.0.tar.gz StartedAt: 2023-10-16 04:58:25 -0400 (Mon, 16 Oct 2023) EndedAt: 2023-10-16 05:02:28 -0400 (Mon, 16 Oct 2023) EllapsedTime: 243.1 seconds RetCode: 0 Status: OK CheckDir: openPrimeR.Rcheck Warnings: 0