Package: openPrimeR Version: 1.22.0 Command: /home/biocbuild/bbs-3.17-bioc/R/bin/R CMD build --keep-empty-dirs --no-resave-data openPrimeR StartedAt: 2023-10-15 17:45:53 -0400 (Sun, 15 Oct 2023) EndedAt: 2023-10-15 17:47:25 -0400 (Sun, 15 Oct 2023) EllapsedTime: 91.9 seconds RetCode: 0 Status: OK PackageFile: openPrimeR_1.22.0.tar.gz PackageFileSize: 2.02 MiB