Package: openPrimeR Version: 1.22.0 Command: /Library/Frameworks/R.framework/Resources/bin/R CMD build --keep-empty-dirs --no-resave-data openPrimeR StartedAt: 2023-10-15 20:01:27 -0400 (Sun, 15 Oct 2023) EndedAt: 2023-10-15 20:04:47 -0400 (Sun, 15 Oct 2023) EllapsedTime: 200.0 seconds RetCode: 0 Status: OK PackageFile: openPrimeR_1.22.0.tar.gz PackageFileSize: 2.047 MiB