Package: openCyto Version: 2.12.0 Command: /home/biocbuild/bbs-3.17-bioc/R/bin/R CMD check --install=check:openCyto.install-out.txt --library=/home/biocbuild/bbs-3.17-bioc/R/site-library --timings openCyto_2.12.0.tar.gz StartedAt: 2023-10-15 23:27:48 -0400 (Sun, 15 Oct 2023) EndedAt: 2023-10-15 23:32:00 -0400 (Sun, 15 Oct 2023) EllapsedTime: 252.1 seconds RetCode: 0 Status: WARNINGS CheckDir: openCyto.Rcheck Warnings: 4