Package: openCyto Version: 2.12.0 Command: /Library/Frameworks/R.framework/Resources/bin/R CMD check --install=check:openCyto.install-out.txt --library=/Library/Frameworks/R.framework/Resources/library --no-vignettes --timings openCyto_2.12.0.tar.gz StartedAt: 2023-10-16 04:52:23 -0400 (Mon, 16 Oct 2023) EndedAt: 2023-10-16 04:58:57 -0400 (Mon, 16 Oct 2023) EllapsedTime: 394.8 seconds RetCode: 0 Status: WARNINGS CheckDir: openCyto.Rcheck Warnings: 4