Package: ontoProc Version: 1.22.0 Command: rm -rf ontoProc.buildbin-libdir && mkdir ontoProc.buildbin-libdir && F:\biocbuild\bbs-3.17-bioc\R\bin\R.exe CMD INSTALL --build --library=ontoProc.buildbin-libdir ontoProc_1.22.0.tar.gz StartedAt: 2023-10-16 09:12:58 -0400 (Mon, 16 Oct 2023) EndedAt: 2023-10-16 09:13:40 -0400 (Mon, 16 Oct 2023) EllapsedTime: 42.4 seconds RetCode: 0 Status: OK PackageFile: ontoProc_1.22.0.zip PackageFileSize: 7.286 MiB