Package: ontoProc Version: 1.22.0 Command: /Library/Frameworks/R.framework/Resources/bin/R CMD check --install=check:ontoProc.install-out.txt --library=/Library/Frameworks/R.framework/Resources/library --no-vignettes --timings ontoProc_1.22.0.tar.gz StartedAt: 2023-10-16 04:52:14 -0400 (Mon, 16 Oct 2023) EndedAt: 2023-10-16 05:14:39 -0400 (Mon, 16 Oct 2023) EllapsedTime: 1344.6 seconds RetCode: 0 Status: OK CheckDir: ontoProc.Rcheck Warnings: 0