Package: onlineFDR Version: 2.8.0 Command: F:\biocbuild\bbs-3.17-bioc\R\bin\R.exe CMD INSTALL onlineFDR StartedAt: 2023-10-15 15:50:18 -0400 (Sun, 15 Oct 2023) EndedAt: 2023-10-15 15:51:47 -0400 (Sun, 15 Oct 2023) EllapsedTime: 89.7 seconds RetCode: 0 Status: OK