Package: onlineFDR Version: 2.8.0 Command: /Library/Frameworks/R.framework/Resources/bin/R CMD check --install=check:onlineFDR.install-out.txt --library=/Library/Frameworks/R.framework/Resources/library --no-vignettes --timings onlineFDR_2.8.0.tar.gz StartedAt: 2023-10-16 04:51:35 -0400 (Mon, 16 Oct 2023) EndedAt: 2023-10-16 04:52:47 -0400 (Mon, 16 Oct 2023) EllapsedTime: 72.7 seconds RetCode: 0 Status: OK CheckDir: onlineFDR.Rcheck Warnings: 0