Package: onlineFDR Version: 2.8.0 Command: /Library/Frameworks/R.framework/Resources/bin/R CMD build --keep-empty-dirs --no-resave-data onlineFDR StartedAt: 2023-10-15 20:00:53 -0400 (Sun, 15 Oct 2023) EndedAt: 2023-10-15 20:03:18 -0400 (Sun, 15 Oct 2023) EllapsedTime: 144.2 seconds RetCode: 0 Status: OK PackageFile: onlineFDR_2.8.0.tar.gz PackageFileSize: 1.918 MiB