Package: oncomix Version: 1.22.0 Command: chmod a+r oncomix -R && F:\biocbuild\bbs-3.17-bioc\R\bin\R.exe CMD build --keep-empty-dirs --no-resave-data oncomix StartedAt: 2023-10-15 20:59:39 -0400 (Sun, 15 Oct 2023) EndedAt: 2023-10-15 21:02:07 -0400 (Sun, 15 Oct 2023) EllapsedTime: 148.1 seconds RetCode: 0 Status: OK PackageFile: oncomix_1.22.0.tar.gz PackageFileSize: 1.688 MiB