Package: oncomix Version: 1.22.0 Command: rm -rf oncomix.buildbin-libdir && mkdir oncomix.buildbin-libdir && F:\biocbuild\bbs-3.17-bioc\R\bin\R.exe CMD INSTALL --build --library=oncomix.buildbin-libdir oncomix_1.22.0.tar.gz StartedAt: 2023-10-16 09:12:38 -0400 (Mon, 16 Oct 2023) EndedAt: 2023-10-16 09:13:08 -0400 (Mon, 16 Oct 2023) EllapsedTime: 30.0 seconds RetCode: 0 Status: OK PackageFile: oncomix_1.22.0.zip PackageFileSize: 1.723 MiB